BEGIN:VCALENDAR
VERSION:2.0
PRODID:-//HKU Common Core - ECPv5.16.4.1//NONSGML v1.0//EN
CALSCALE:GREGORIAN
METHOD:PUBLISH
X-WR-CALNAME:HKU Common Core
X-ORIGINAL-URL:https://commoncore.hku.hk
X-WR-CALDESC:Events for HKU Common Core
REFRESH-INTERVAL;VALUE=DURATION:PT1H
X-Robots-Tag:noindex
X-PUBLISHED-TTL:PT1H
BEGIN:VTIMEZONE
TZID:Asia/Hong_Kong
BEGIN:STANDARD
TZOFFSETFROM:+0800
TZOFFSETTO:+0800
TZNAME:HKT
DTSTART:20260101T000000
END:STANDARD
END:VTIMEZONE
BEGIN:VEVENT
DTSTART;TZID=Asia/Hong_Kong:20260427T123000
DTEND;TZID=Asia/Hong_Kong:20260427T133000
DTSTAMP:20260420T165514
CREATED:20260410T084327Z
LAST-MODIFIED:20260410T084327Z
UID:38540-1777293000-1777296600@commoncore.hku.hk
SUMMARY:Common Core Staff-Student Consultative meeting 2026
DESCRIPTION:The Common Core would like to invite you to participate in the Staff-Student Consultative meeting: \nDate: Monday\, 27 April 2026\nTime: 12:30 pm – 1:30 pm\nVenue: Common Core & BASc Lounge\, Main Building Rm 150 \n(Pizza will be provided for this lunch meeting) \nThis meeting provides a channel of communication between students across campus and the Common Core. All undergraduate students are encouraged to join us in order to learn more about course development\, how the programme is structured from the inside-out\, and to let us know your suggestions for further enhancing the experience of the Common Core for all of you. \nIf you are interested in joining the meeting\, please put down your name here before Friday April 24th.
URL:https://commoncore.hku.hk/event/common-core-staff-student-consultative-meeting-2026/
LOCATION:Common Core / BASc Lounge\, Room 150 1/F Main Building\, The University of Hong Kong\, Hong Kong
CATEGORIES:Other CC Events
ATTACH;FMTTYPE=image/png:https://commoncore.hku.hk/wp-content/uploads/2026/04/Copy-of-SSCM-Banner.png
END:VEVENT
BEGIN:VEVENT
DTSTART;TZID=Asia/Hong_Kong:20260429T113000
DTEND;TZID=Asia/Hong_Kong:20260429T143000
DTSTAMP:20260420T165514
CREATED:20260313T081246Z
LAST-MODIFIED:20260313T081246Z
UID:38475-1777462200-1777473000@commoncore.hku.hk
SUMMARY:Student Learning Festival 2026
DESCRIPTION:The Student Festival will showcase students’ innovative work in tackling issues which required them to integrate knowledge\, methods\, and media across disciplines. These exemplary projects come from different undergraduate courses and include posters\, videos\, podcasts\, models\, and more. \nDate: 29 April\, 2026 (Wednesday)\nTime: 11:30 am – 2:30 pm\nVenue: Haking Wong Podium \nCome Meet the Students!
URL:https://commoncore.hku.hk/event/student-learning-festival-2026/
LOCATION:Haking Wong Podium
CATEGORIES:Highlight Events
ATTACH;FMTTYPE=image/png:https://commoncore.hku.hk/wp-content/uploads/2026/03/deco-poster-4.29-v1.png
END:VEVENT
END:VCALENDAR